BEGIN:VCALENDAR
VERSION:2.0
PRODID:-//THC-Hürth „Rot Weiss“ e.V.  - ECPv6.15.11//NONSGML v1.0//EN
CALSCALE:GREGORIAN
METHOD:PUBLISH
X-WR-CALNAME:THC-Hürth „Rot Weiss“ e.V. 
X-ORIGINAL-URL:https://www.thc-huerth.de
X-WR-CALDESC:Veranstaltungen für THC-Hürth „Rot Weiss“ e.V. 
REFRESH-INTERVAL;VALUE=DURATION:PT1H
X-Robots-Tag:noindex
X-PUBLISHED-TTL:PT1H
BEGIN:VTIMEZONE
TZID:Europe/Berlin
BEGIN:DAYLIGHT
TZOFFSETFROM:+0100
TZOFFSETTO:+0200
TZNAME:CEST
DTSTART:20230326T010000
END:DAYLIGHT
BEGIN:STANDARD
TZOFFSETFROM:+0200
TZOFFSETTO:+0100
TZNAME:CET
DTSTART:20231029T010000
END:STANDARD
BEGIN:DAYLIGHT
TZOFFSETFROM:+0100
TZOFFSETTO:+0200
TZNAME:CEST
DTSTART:20240331T010000
END:DAYLIGHT
BEGIN:STANDARD
TZOFFSETFROM:+0200
TZOFFSETTO:+0100
TZNAME:CET
DTSTART:20241027T010000
END:STANDARD
BEGIN:DAYLIGHT
TZOFFSETFROM:+0100
TZOFFSETTO:+0200
TZNAME:CEST
DTSTART:20250330T010000
END:DAYLIGHT
BEGIN:STANDARD
TZOFFSETFROM:+0200
TZOFFSETTO:+0100
TZNAME:CET
DTSTART:20251026T010000
END:STANDARD
BEGIN:DAYLIGHT
TZOFFSETFROM:+0100
TZOFFSETTO:+0200
TZNAME:CEST
DTSTART:20260329T010000
END:DAYLIGHT
BEGIN:STANDARD
TZOFFSETFROM:+0200
TZOFFSETTO:+0100
TZNAME:CET
DTSTART:20261025T010000
END:STANDARD
BEGIN:DAYLIGHT
TZOFFSETFROM:+0100
TZOFFSETTO:+0200
TZNAME:CEST
DTSTART:20270328T010000
END:DAYLIGHT
BEGIN:STANDARD
TZOFFSETFROM:+0200
TZOFFSETTO:+0100
TZNAME:CET
DTSTART:20271031T010000
END:STANDARD
END:VTIMEZONE
BEGIN:VEVENT
DTSTART;TZID=Europe/Berlin:20260411T100000
DTEND;TZID=Europe/Berlin:20260411T130000
DTSTAMP:20260420T192917
CREATED:20260405T155142Z
LAST-MODIFIED:20260405T155153Z
UID:6769-1775901600-1775912400@www.thc-huerth.de
SUMMARY:Tag der fleißigen Hände
DESCRIPTION:Wenn alles perfekt läuft\, können wir am kommenden Wochenende die ersten Plätze eröffnen. Dafür muss auf den Plätzen aber noch einiges getan werden. Wir benötigen also ein paar fleißige Hände am\nSamstag\, 11.04. um 10:00 Uhr.\nWenn wir dann alles schaffen\, können am Nachmittag die ersten Bälle geschlagen werden. \nBitte meldet Euch zum Helfen an unter\ninfo@thc-huerth.de
URL:https://www.thc-huerth.de/event/tag-der-fleissigen-haende/
CATEGORIES:Startseite
END:VEVENT
BEGIN:VEVENT
DTSTART;TZID=Europe/Berlin:20260318T190000
DTEND;TZID=Europe/Berlin:20260318T210000
DTSTAMP:20260420T192917
CREATED:20260305T081322Z
LAST-MODIFIED:20260305T081322Z
UID:6633-1773860400-1773867600@www.thc-huerth.de
SUMMARY:Mitgliederversammlung 2026
DESCRIPTION:Liebe Mitglieder\,\nherzlich laden wir Euch ein zur diesjährigen ordentlichen Mitgliederversammlung am \nMittwoch\, den 18.03.2026 um 19:00 Uhr  \nin das Clubhaus des THC Hürth „Rot-Weiss“ e.V.\, Brandlstr. 10\, 50354 Hürth.
URL:https://www.thc-huerth.de/event/mitgliederversammlung-2026/
CATEGORIES:Startseite
END:VEVENT
BEGIN:VEVENT
DTSTART;VALUE=DATE:20260214
DTEND;VALUE=DATE:20260215
DTSTAMP:20260420T192917
CREATED:20251201T082511Z
LAST-MODIFIED:20251201T082511Z
UID:6426-1771027200-1771113599@www.thc-huerth.de
SUMMARY:Karnevalszug 2026 - ab jetzt anmelden!!
DESCRIPTION:Alt-Hürther & Hermülheimer Karnevalszug am Samstag den 14.02.2026! \nAlaaf\, liebe Vereinsmitglieder\, \nwir laden euch alle herzlich ein\, dabei zu sein und unseren Verein mit viel Spaß\, Musik und guter Laune in Hürth zu repräsentieren. Das Vereinsmotto ist wie immer ROT-WEISS. \nGemeinsam\, jeck und fröhlich\, ziehen wir durch die Straßen und zeigen\, was für eine tolle Truppe wir sind! \nOb alt oder jung\, groß oder klein – jeder von Euch und Euren Familien ist willkommen mitzumachen und den Karneval so richtig zu feiern. \nDamit alles läuft wie am Schnürchen\, brauchen wir Eure\nverbindliche Anmeldung (Formulare am Ende der Mail) bis zum 18.01.2026 an folgende Email-Adresse: Karnevalszug@thc-huerth.de \nACHTUNG: Wartet nicht so lange mit Euren Anmeldungen\, auch bei dieser Aktion können aus organisatorischen Gründen nicht unendlich viele Personen teilnehmen!\nVerspätete Anmeldungen können wir leider nicht akzeptieren\, da wir rechtzeitig Kamelle bestellen müssen\, und jede Menge zu organisieren ist! \nFür die Anmeldung einfach den angehangenen Bogen ausfüllen und zurückzusenden! \nDie Teilnahmegebühr beträgt 55\,00€ pro Person (ab 16 Jahre) und 40\,00€ pro Kind (bis 15 Jahre).\nDie Gebühr bitten wir euch schnellstmöglich auf folgendes Konto zu überweisen: \nKontoinhaber: THC Hürth\nKontonummer: DE39 3705 0299 0137 0031 90\nVerwendungszweck: Karnevalszug + Name(n) \n\n\n\nWeitere Infos zum Zug \n\nKinder unter 16 Jahren müssen mit einer Begleitperson im Zug mitgehen.\nBegleitpersonen können auf 5 Kinder im Zug aufpassen. Bitte achtet darauf\, dass diese Anzahl nicht überschritten wird.\nKinder ab 16 Jahren können ohne Begleitpersonen im Zug mitgehen\, wenn Sie die Anmeldung inkl. der Zustimmung der Erziehungsberechtigten abgegeben haben.\nWährend des Zuges werden häufig Fotos von den Zugteilnehmern gemacht\, welche im Hürther Wochenende oä. veröffentlich werden. Bitte nehmt dies zur Kenntnis.\nAuch wir als THC Hürth werden Fotos machen\, die ggf. auf der Homepage oder im Clubhaus veröffentlicht werden.\n\n\n\n\n\nWeitere Details zum Ablauf\, Kamelle packen\, Zugweg\, Aufstellung\, Party im Clubhaus etc. folgen. \nBei Fragen meldet Euch bei uns: karnevalszug@thc-huerth.de
URL:https://www.thc-huerth.de/event/karnevalszug-2026-ab-jetzt-anmelden/
END:VEVENT
BEGIN:VEVENT
DTSTART;VALUE=DATE:20251214
DTEND;VALUE=DATE:20251215
DTSTAMP:20260420T192917
CREATED:20251123T162815Z
LAST-MODIFIED:20251201T082640Z
UID:6423-1765670400-1765756799@www.thc-huerth.de
SUMMARY:Weihnachtsmarkt beim RojoBlanco
DESCRIPTION:Liebe Mitglieder des THC Hürth\, \nin diesem Jahr möchten wir euch zu etwas ganz Besonderem einladen:\nDas RojoBlanco verwandelt den Außenbereich des Clubheims am Sonntag\, 14. Dezember von 14:00 – 21:00 Uhr in einen kleinen\, gemütlichen Weihnachtsmarkt – mit warmem Licht\, winterlicher Atmosphäre und einem Hauch spanischem Flair. \nFreut euch auf Sangria caliente und alkoholfreien Winterpunsch\, dazu weihnachtlich passende Speisen wie frische Waffeln\, Churros\, Patatas Bravas\, Jamón & Käse und Grünkohl – klassisch oder mit Chorizo. \nAls kleines Highlight gibt es außerdem eine Mini-Weihnachtslotterie „El Pequeño Gordo“ mit leckeren RojoBlanco-Gewinnen. \nKommt vorbei\, bringt gern Freunde oder Familie mit und genießt einen entspannten Adventssonntag bei uns – draußen\, gemütlich und ganz im Zeichen von Tapas\, Sangria und Weihnachten. \nWir freuen uns auf euch!
URL:https://www.thc-huerth.de/event/weihnachtsmarkt-beim-rojoblanco/
ATTACH;FMTTYPE=image/jpeg:https://www.thc-huerth.de/wp-content/uploads/RojoBlanco.jpg
END:VEVENT
BEGIN:VEVENT
DTSTART;VALUE=DATE:20251207
DTEND;VALUE=DATE:20251208
DTSTAMP:20260420T192917
CREATED:20251123T162105Z
LAST-MODIFIED:20251201T082724Z
UID:6414-1765065600-1765151999@www.thc-huerth.de
SUMMARY:Knusperhausbasteln im THC
DESCRIPTION:Liebe Kinder und Jugendliche\, \nwir laden Euch herzlich ein\, am  Sonntag 07.12.2025\, 11:00 Uhr \nim THC-Clubhaus Euer eigenes THC-Lebkuchen-Knusperhäuschen zu basteln. Es werden jede Menge Süßigkeiten zum Verzieren vorhanden sein.\nZur Planung benötigen wir Eure verbindliche Anmeldung an info@thc-huerth.de.
URL:https://www.thc-huerth.de/event/knusperhausbasteln-im-thc/
ATTACH;FMTTYPE=image/jpeg:https://www.thc-huerth.de/wp-content/uploads/Knusper.jpg
END:VEVENT
BEGIN:VEVENT
DTSTART;TZID=Europe/Berlin:20250905T170000
DTEND;TZID=Europe/Berlin:20250905T220000
DTSTAMP:20260420T192917
CREATED:20250407T073711Z
LAST-MODIFIED:20250707T072912Z
UID:6123-1757091600-1757109600@www.thc-huerth.de
SUMMARY:THC Sommerfest 05.09. 2025 - ab sofort Anmeldung möglich
DESCRIPTION:
URL:https://www.thc-huerth.de/event/thc-sommerfest/
END:VEVENT
BEGIN:VEVENT
DTSTART;TZID=Europe/Berlin:20250818T090000
DTEND;TZID=Europe/Berlin:20250822T153000
DTSTAMP:20260420T192917
CREATED:20250403T065616Z
LAST-MODIFIED:20250403T151317Z
UID:6105-1755507600-1755876600@www.thc-huerth.de
SUMMARY:Sommerferien Camp II: 18.-22. August 2025\, 09.00-15.30 Uhr
DESCRIPTION:Liebe Eltern\, Jugendliche und Kinder\, \ngerne möchten wir über die bevorstehenden Sommercamps 2025\, die von unserer Seite der Tennisschule Lea Gasparovic angeboten werden\, informieren. \n  \nDie Camps finden an folgenden Terminen statt: \nCamp 1: 14.-18. Juli 2025 \nCamp 2: 18.-22. August 2025 \n  \nBitte finden Sie alle wichtigen Infos und Randdaten hierzu im Anhang. \nAnmeldung ist bis zum 15. Juni 2025 unter folgendem Link möglich: https://www.tennisschule.net/event-list \n  \nNach Anmeldeschluss bekommen Sie eine Rechnung per Mail zugeschickt. \nWenn Sie diese erhalten haben\, bitte ich darum\, den offenen Betrag innerhalb von zwei Wochen per Banküberweisung zu begleichen. \n  \nSommercamp_Ausschreibung
URL:https://www.thc-huerth.de/event/sommerferien-camp-ii-18-22-august-2025-09-00-15-30-uhr/
END:VEVENT
BEGIN:VEVENT
DTSTART;TZID=Europe/Berlin:20250714T090000
DTEND;TZID=Europe/Berlin:20250718T153000
DTSTAMP:20260420T192917
CREATED:20250403T065211Z
LAST-MODIFIED:20250403T151232Z
UID:6100-1752483600-1752852600@www.thc-huerth.de
SUMMARY:Sommerferien Camp I: 14.-18. Juli 2025\, 09.00-15.30 Uhr
DESCRIPTION:Liebe Eltern\, Jugendliche und Kinder\, \ngerne möchten wir über die bevorstehenden Sommercamps 2025\, die von unserer Seite der Tennisschule Lea Gasparovic angeboten werden\, informieren. \n  \nDie Camps finden an folgenden Terminen statt: \nCamp 1: 14.-18. Juli 2025 \nCamp 2: 18.-22. August 2025 \n  \nBitte finden Sie alle wichtigen Infos und Randdaten hierzu im Anhang. \nAnmeldung ist bis zum 15. Juni 2025 unter folgendem Link möglich: https://www.tennisschule.net/event-list \n  \nNach Anmeldeschluss bekommen Sie eine Rechnung per Mail zugeschickt. \nWenn Sie diese erhalten haben\, bitte ich darum\, den offenen Betrag innerhalb von zwei Wochen per Banküberweisung zu begleichen. \n  \nSommercamp_Ausschreibung
URL:https://www.thc-huerth.de/event/sommerferien-camp-i-14-18-juli-2025-09-00-15-30-uhr/
END:VEVENT
BEGIN:VEVENT
DTSTART;TZID=Europe/Berlin:20250501T110000
DTEND;TZID=Europe/Berlin:20250501T150000
DTSTAMP:20260420T192917
CREATED:20250407T074247Z
LAST-MODIFIED:20250407T074247Z
UID:6125-1746097200-1746111600@www.thc-huerth.de
SUMMARY:THC - Tag der offenen Tür
DESCRIPTION:
URL:https://www.thc-huerth.de/event/thc-tag-der-offenen-tuer/
END:VEVENT
BEGIN:VEVENT
DTSTART;VALUE=DATE:20250428
DTEND;VALUE=DATE:20250429
DTSTAMP:20260420T192917
CREATED:20250403T151902Z
LAST-MODIFIED:20250403T151902Z
UID:6108-1745798400-1745884799@www.thc-huerth.de
SUMMARY:Ballschule THC Hürth
DESCRIPTION:Liebe Eltern\, \nab der Sommersaison starten wir die THC Ballschule. \nWas ist die Ballschule?\nDie Ballschule ist ein pädagogisches Konzept\, in dessen Rahmen Kinder von 3 – 6 Jahren spielerisch an den Tennissport herangeführt werden. \nZielsetzung der Trainingseinheiten ist das spielerische Erlernen von motorischen und koordinativen Fähigkeiten\, sodass den Kindern Spaß an Bewegung vermittelt wird.  \nEin Großteil der alters- und kindgerechten Übungen wird ohne den Tennisschläger absolviert. \nDie Trainingsinhalte sind u.a.: \n\nWerfen\, Fangen\, Prellen\, Rollen\ntennisspezifische Schrittfolgen\nHand-Auge-Koordination\nSchulung des peripheren Sehens\nerste Übungen mit dem Tennisschläger\n\nDurch das Training in der Ballschule werden die Kinder vielseitig auf den Tennissport vorbereitet. \nDie gezielte Schaffung einer breiten motorischen Basis unterstützt sie dabei\, ihre Bewegungsabläufe zu verfeinern und ein besseres Gefühl für den Ball zu entwickeln. \nEin früher Beginn legt die Grundlage dafür\, spätere Tennistechniken einfacher zu erlernen und umzusetzen. \nAnmeldung und Kosten\nHier geht es zur Anmeldung: tennisgrouporganizer.com/THC_Huerth_Ballschule \nKosten: 200€ (inkl. MwSt.) für die Sommersaison \n\n17 Wochen / Termine\nEine Vereinsmitgliedschaft ist bei Teilnahme nicht notwendig. Daher sind die Kosten für die Platznutzung im Preis bereits enthalten.\n\nNach der Anmeldung bekommen Sie die Rechnung per Mail zugeschickt. \nWenn Sie diese erhalten haben\, bitte ich darum\, den offenen Betrag bis zum 28.04.25 per Banküberweisung zu begleichen – vielen Dank! \nTraining: 1 Stunde pro Woche \nTrainingstermine: \n\n\n\nDonnerstag:\n\n14:00 – 15:00 Uhr\n15:00 – 16:00 Uhr\n\n\nSamstag:\n\n15:00 – 16:00 Uhr\n16:00 – 17:00 Uhr\n\n\n\n\n\nBei Fragen melden Sie sich gerne direkt bei Lea Gasparovic Tel. +49 1522 823 4961.
URL:https://www.thc-huerth.de/event/ballschule-thc-huerth/
END:VEVENT
BEGIN:VEVENT
DTSTART;TZID=Europe/Berlin:20250327T190000
DTEND;TZID=Europe/Berlin:20250327T220000
DTSTAMP:20260420T192917
CREATED:20250106T155548Z
LAST-MODIFIED:20250106T155548Z
UID:6092-1743102000-1743112800@www.thc-huerth.de
SUMMARY:THC Jahreshauptversammlung
DESCRIPTION:
URL:https://www.thc-huerth.de/event/thc-jahreshauptversammlung/
END:VEVENT
BEGIN:VEVENT
DTSTART;VALUE=DATE:20250301
DTEND;VALUE=DATE:20250302
DTSTAMP:20260420T192917
CREATED:20250106T074240Z
LAST-MODIFIED:20250106T074240Z
UID:6087-1740787200-1740873599@www.thc-huerth.de
SUMMARY:Karnevalszug 2025
DESCRIPTION:Alt-Hürther & Hermülheimer Karnevalszug am Samstag\, den 01.03.2025 \n  \nAlaaf\, liebe Vereinsmitglieder\, \n  \nwir laden euch alle herzlich ein\, dabei zu sein und unseren Verein mit viel Spaß\, Musik und guter Laune in Hürth zu repräsentieren. Das Vereinsmotto ist wie immer ROT-WEISS. \nGemeinsam\, jeck und fröhlich\, ziehen wir durch die Straßen und zeigen\, was für eine tolle Truppe wir sind! \nOb alt oder jung\, groß oder klein – jeder von Euch und Euren Familien ist willkommen mitzumachen und den Karneval so richtig zu feiern. \n  \nDamit alles läuft wie am Schnürchen\, brauchen wir Eure \nverbindliche Anmeldung (Formulare am Ende der Mail) bis zum 26.01.2025 an folgende E-Mail-Adresse: karnevalszug@thc-huerth.de \n  \n  \nACHTUNG: Wartet nicht so lange mit Euren Anmeldungen\, auch bei dieser Aktion können aus organisatorischen Gründen nicht unendlich viele Personen teilnehmen! \nVerspätete Anmeldungen können wir leider nicht akzeptieren\, da wir rechtzeitig Kamelle bestellen müssen\, und jede Menge zu organisieren ist! \n  \nFür die Anmeldung einfach den angehangenen Bogen ausfüllen und zurückzusenden! \n  \nKarneval_2024_Anmeldung_Kind_Jugendlicher_.pdf \n  \nKarneval_2024_Anmeldung_Erwachsene_.pdf \n  \nDie Teilnahmegebühr beträgt 55\,00€ pro Person (ab 16 Jahre) und 40\,00€ pro Kind (bis 15 Jahre). \nDie Gebühr bitten wir euch schnellstmöglich auf folgendes Konto zu überweisen: \n  \nKontoinhaber: THC Hürth \nKontonummer: DE39 3705 0299 0137 0031 90 \nVerwendungszweck: Karnevalszug + Name(n) \n  \n  \nWeitere Infos zum Zug \n\nKinder unter 16 Jahren müssen mit einer Begleitperson im Zug mitgehen.\nBegleitpersonen können auf 5 Kinder im Zug aufpassen. Bitte achtet darauf\, dass diese Anzahl nicht überschritten wird.\nKinder ab 16 Jahren können ohne Begleitpersonen im Zug mitgehen\, wenn Sie die Anmeldung inkl. der Zustimmung der Erziehungsberechtigten abgegeben haben.\nWährend des Zuges werden häufig Fotos von den Zugteilnehmern gemacht\, welche im Hürther Wochenende oä. veröffentlich werden. Bitte nehmt dies zur Kenntnis.\n\nAuch wir als THC Hürth werden Fotos machen\, die ggf. auf der Homepage oder im Clubhaus veröffentlicht werden. \n  \nWeitere Details zum Ablauf\, Kamelle packen\, Zugweg\, Aufstellung\, Party im Clubhaus etc. folgen. \n  \nBei Fragen meldet Euch bei uns: karnevalszug@thc-huerth.de \n  \nWurfmaterial: \nAuch in 2025 werden wir wieder von unserem Geschäftsführer mit Wurfmaterial in Form von Bällen unterstützt. \n  \nVielleicht finden sich ja noch weitere Sponsoren\, die eigene Werbung in Verbindung mit THC-Werbung machen möchten. Oder jemand kennt eine Firma\, die Interesse hat uns zu unterstützen! Auch Wurfmaterialspenden nehmen wir gerne an! Meldet Euch einfach bei uns! \n  \nWir freuen uns auf einen bunten und unvergesslichen Tag mit euch allen!
URL:https://www.thc-huerth.de/event/karnevalszug-2025/
CATEGORIES:Startseite
END:VEVENT
BEGIN:VEVENT
DTSTART;VALUE=DATE:20250218
DTEND;VALUE=DATE:20250308
DTSTAMP:20260420T192917
CREATED:20250218T072632Z
LAST-MODIFIED:20250218T073342Z
UID:6094-1739836800-1741391999@www.thc-huerth.de
SUMMARY:Anmeldung Tennis Jugend Sommertraining 2025
DESCRIPTION:Liebe Kinder\, liebe Jugendliche\, liebe Eltern\, \nab sofort könnt ihr euch für das Training in der Sommersaison 2025 anmelden. \nDas Training findet wie immer auf unserer großartigen Clubanlage des THC statt. \nBedingungen: \n– die Kosten für eine Trainingseinheit betragen 150\,00€\, zwei Trainingseinheiten kosten 350\,00€. \n(die 1. Einheit wird vom Club bezuschusst) \n– Trainingsbeginn ist Montag\, der 28. April 2025 \n– anbei erhaltet ihr den Link (tennisgrouporganizer.com/THC_Huerth) zur Anmeldung mit der Bitte die Termine anzugeben\, an denen eine Teilnahme möglich ist. \nHierdurch wird die Trainingsplanung erleichtert und optimiert. \nBitte gebt möglichst viele Termine an. Wir haben über 200 Kinder/Jugendliche im Training und je mehr terminliche Möglichkeiten vorhanden sind\, umso optimaler werden die Trainingszeiten und Gruppeneinteilungen für jeden Einzelnen werden. \nGanz besonders helfen würde uns die Angabe von möglichst frühen Trainingszeiten (14:00\,15:00). \nBei wöchentlich einmaligem Training müssen mindestens 2 Tage angegeben werden\, bei wöchentlich 2 Trainingsterminen 3 Tage. \n– die verbindliche Anmeldung sollte bis spätestens 07. März 2025 abgeschickt werden. \n– die Trainingstermine werden dann per E-Mail versendet. \nBitte haltet den Abgabetermin ein. So erspart Ihr uns viel Zeit und nur so kann gewährleistet werden\, dass alle Kinder/Jugendlichen ihren Trainingstermin pünktlich erhalten. \nLink zur Anmeldung: tennisgrouporganizer.com/THC_Huerth \nFür unsere Ballschule kommt eine separate E-Mail mit einem Anmeldelink. \n 
URL:https://www.thc-huerth.de/event/anmeldung-tennis-jugend-sommertraining-2025/
END:VEVENT
BEGIN:VEVENT
DTSTART;VALUE=DATE:20241001
DTEND;VALUE=DATE:20250501
DTSTAMP:20260420T192917
CREATED:20240403T170005Z
LAST-MODIFIED:20241017T121047Z
UID:5337-1727740800-1746057599@www.thc-huerth.de
SUMMARY:Clubgastronomie RojoBlanco - Tapas & Mehr
DESCRIPTION:Unsere Clubgastronomie RojoBlanco freut sich auf Gäste. \nWintersaison: \nMontag – Freitag – ab 17.00 Uhr \nSamstag – ab 17.00 Uhr \nSonntag – ab 12.00 Uhr \nAnfragen und Reservierungen unter: 02233-41852 \n  \n 
URL:https://www.thc-huerth.de/event/clubgastronomie-rojo-blanco/
END:VEVENT
BEGIN:VEVENT
DTSTART;VALUE=DATE:20240929
DTEND;VALUE=DATE:20240930
DTSTAMP:20260420T192917
CREATED:20240313T162717Z
LAST-MODIFIED:20240314T084858Z
UID:5317-1727568000-1727654399@www.thc-huerth.de
SUMMARY:Finaltag Clubmeisterschaften Jugend + Erwachsene 2024
DESCRIPTION:
URL:https://www.thc-huerth.de/event/finaltag-clubmeisterschaften-jugend-erwachsene-2024/
CATEGORIES:Startseite
END:VEVENT
BEGIN:VEVENT
DTSTART;VALUE=DATE:20240928
DTEND;VALUE=DATE:20240929
DTSTAMP:20260420T192917
CREATED:20240313T162643Z
LAST-MODIFIED:20240314T084954Z
UID:5315-1727481600-1727567999@www.thc-huerth.de
SUMMARY:Tennis Halbfinaltag Clubmeisterschaften Jugend 2024
DESCRIPTION:
URL:https://www.thc-huerth.de/event/tennis-halbfinaltag-clubmeisterschaften-jugend-2024/
CATEGORIES:Startseite
END:VEVENT
BEGIN:VEVENT
DTSTART;VALUE=DATE:20240922
DTEND;VALUE=DATE:20240923
DTSTAMP:20260420T192917
CREATED:20240313T162359Z
LAST-MODIFIED:20240314T085000Z
UID:5310-1726963200-1727049599@www.thc-huerth.de
SUMMARY:Tennis - Mini/Maxi - Clubmeisterschaften 2024
DESCRIPTION:
URL:https://www.thc-huerth.de/event/tennis-mini-maxi-clubmeisterschaften/
CATEGORIES:Startseite
END:VEVENT
BEGIN:VEVENT
DTSTART;TZID=Europe/Berlin:20240830T180000
DTEND;TZID=Europe/Berlin:20240830T220000
DTSTAMP:20260420T192917
CREATED:20240313T144234Z
LAST-MODIFIED:20240314T085004Z
UID:5287-1725040800-1725055200@www.thc-huerth.de
SUMMARY:THC - Sommerfest 2024
DESCRIPTION:
URL:https://www.thc-huerth.de/event/thc-sommerfest-2024/
CATEGORIES:Startseite
END:VEVENT
BEGIN:VEVENT
DTSTART;VALUE=DATE:20240812
DTEND;VALUE=DATE:20240816
DTSTAMP:20260420T192917
CREATED:20240313T162507Z
LAST-MODIFIED:20240314T085014Z
UID:5312-1723420800-1723766399@www.thc-huerth.de
SUMMARY:Tennis Sommercamp II Erwachsene
DESCRIPTION:
URL:https://www.thc-huerth.de/event/tennis-sommercamp-ii-erwachsene/
CATEGORIES:Startseite
END:VEVENT
BEGIN:VEVENT
DTSTART;VALUE=DATE:20240812
DTEND;VALUE=DATE:20240817
DTSTAMP:20260420T192917
CREATED:20240313T145704Z
LAST-MODIFIED:20240314T085009Z
UID:5299-1723420800-1723852799@www.thc-huerth.de
SUMMARY:Tennis Sommercamp II Jugend
DESCRIPTION:
URL:https://www.thc-huerth.de/event/tennis-sommercamp-ii-jugend/
CATEGORIES:Startseite
END:VEVENT
BEGIN:VEVENT
DTSTART;VALUE=DATE:20240715
DTEND;VALUE=DATE:20240719
DTSTAMP:20260420T192917
CREATED:20240313T145543Z
LAST-MODIFIED:20240314T085024Z
UID:5297-1721001600-1721347199@www.thc-huerth.de
SUMMARY:Tennis Sommercamp I Erwachsene
DESCRIPTION:
URL:https://www.thc-huerth.de/event/tennis-sommercamp-i-erwachsene/
CATEGORIES:Startseite
END:VEVENT
BEGIN:VEVENT
DTSTART;VALUE=DATE:20240715
DTEND;VALUE=DATE:20240720
DTSTAMP:20260420T192917
CREATED:20240313T145344Z
LAST-MODIFIED:20240314T085018Z
UID:5295-1721001600-1721433599@www.thc-huerth.de
SUMMARY:Tennis Sommercamp I Jugend
DESCRIPTION:
URL:https://www.thc-huerth.de/event/tennis-sommercamp-i-jugend/
CATEGORIES:Startseite
END:VEVENT
END:VCALENDAR